BEGIN:VCALENDAR
VERSION:2.0
PRODID:-//Visite guidée de l’exposition en Langue des signes française//NONSGML Events //EN
CALSCALE:GREGORIAN
BEGIN:VEVENT
LOCATION:La Galerie des expositions temporaires - Louvre-Lens 
DESCRIPTION:Format exclusivement réservé aux personnes sourdes, malentendantes et leurs accompagnants &#160; 🗓️ Dimanche 21 juin à 11h 📍Galerie des expositions temporaires ⏰ Durée : 1h30 🎟️De 3.50 à 7€ (billet d’entrée à l’exposition non inclus) Réservation en ligne dans la limite des places disponibles sur louvrelens.fr. Renseignements : accessibilite@louvrelens.fr 
DTSTART:20260621T090000Z
DTEND:20260621T100000Z
SUMMARY:Visite guidée de l’exposition en Langue des signes française 
URL;VALUE=URI:http://www.louvrelens.fr
DTSTAMP:20260423T003209Z 
UID:69e968892ec0d 
END:VEVENT
END:VCALENDAR
