BEGIN:VCALENDAR
VERSION:2.0
PRODID:-//Visite des réserves du musée//NONSGML Events //EN
CALSCALE:GREGORIAN
BEGIN:VEVENT
LOCATION:Les Coulisses - Louvre-Lens 
DESCRIPTION:À l&#8217;occasion des travaux actuellement en cours à la Comédie-Française, le Louvre-Lens a l&#8217;honneur d&#8217;accueillir de nombreuses œuvres habituellement dispersées dans les différents espaces du bâtiment historique parisien, pour la première fois réunies et offertes au regard du public. L’exposition La Comédie-Française au Louvre-Lens se déploie également dans les réserves visitables du musée, rappelant le [&#8230;] 
DTSTART:20260301T103000Z
DTEND:20260301T113000Z
SUMMARY:Visite des réserves du musée 
URL;VALUE=URI:http://www.louvrelens.fr
DTSTAMP:20260421T090734Z 
UID:69e73e5637dea 
END:VEVENT
END:VCALENDAR
