BEGIN:VCALENDAR
VERSION:2.0
PRODID:-//Visite-atelier en Langue des signes française//NONSGML Events //EN
CALSCALE:GREGORIAN
BEGIN:VEVENT
LOCATION:La Galerie des expositions temporaires - Louvre-Lens 
DESCRIPTION:Ce format est réservé aux personnes sourdes, malentendantes et à leur accompagnants. Découvrez une sélection d’oeuvres de l’exposition Par-delà les Mille et Une Nuits en Langue des signes française, puis réalisez une création inspirée de ce que vous avez observé. 🗓️ Dimanche 10 mai à 14h45 Pour tous, à partir de 7 ans (enfants accompagnés [&#8230;] 
DTSTART:20260510T124500Z
DTEND:20260510T134500Z
SUMMARY:Visite-atelier en Langue des signes française 
URL;VALUE=URI:http://www.louvrelens.fr
DTSTAMP:20260422T112721Z 
UID:69e8b0992b065 
END:VEVENT
END:VCALENDAR
