BEGIN:VCALENDAR
VERSION:2.0
PRODID:-//Ateliers de pratique artistique//NONSGML Events //EN
CALSCALE:GREGORIAN
BEGIN:VEVENT
LOCATION:La Galerie des expositions temporaires - Louvre-Lens 
DESCRIPTION:Puisez l’inspiration dans les œuvres du musée et découvrez une pratique artistique originale animée par les médiateurs-plasticiens du musée. Un moment de créativité pour soi, dans le cadre chaleureux de l’atelier. À partir de 16 ans. Jeunes à partir de 12 ans accompagnés d’un adulte. Adapté aux débutants. 🗓️Un samedi par mois à 10h15 ⏰Durée [&#8230;] 
DTSTART:20250927T081500Z
DTEND:20250927T091500Z
SUMMARY:Ateliers de pratique artistique 
URL;VALUE=URI:http://www.louvrelens.fr
DTSTAMP:20260421T052001Z 
UID:69e7090172fbb 
END:VEVENT
END:VCALENDAR
